BEGIN:VCALENDAR
VERSION:2.0
PRODID:-//DVET//Turnierkalender//DE
CALSCALE:GREGORIAN
METHOD:PUBLISH
BEGIN:VEVENT
UID:turnier36@dvet.de
DTSTAMP:20260425T120000Z
DTSTART;TZID=Europe/Berlin:20260627T080000
DTEND;TZID=Europe/Berlin:20260704T180000
SUMMARY:Gaygames Valencia 
DESCRIPTION:2026 kommen die Welt-Spiele nach Europa! Die GayGames werden in Valencia (Spanien) ausgetragen und beim weltgrößten queeren Multisport-Event gehören die Tanzsport-Wettbewerbe in Standard- und Lateinamerikanischen Tänzen für Frauen- und Männerpaare sowie ein Turnier für nichtbinäre Paare natürlich auch dazu.
LOCATION:L’Alqueria del Basket, Valencia
URL:https://equality-tanzsport.de/termindetails/?id=36
STATUS:CONFIRMED
END:VEVENT
END:VCALENDAR
